View In:
  ArcGIS JavaScript
  ArcGIS Online Map Viewer
  ArcGIS Earth
  ArcMap
View Footprint In:
  ArcGIS Online Map Viewer
Service Description:  Basemaps/On_hillshade_tif
Name:  Basemaps/On_hillshade_tif
Description:  
Single Fused Map Cache:  false
Extent: 
XMin: 100000.00014021993
YMin: 100000.00008631457
XMax: 360000.0001402199
YMax: 265000.00008631457
Spatial Reference: 103443
 (8140)
Initial Extent:
XMin: 100000.00014021993
YMin: 100000.00008631457
XMax: 360000.0001402199
YMax: 265000.00008631457
Spatial Reference: 103443
 (8140)
Full Extent:
XMin: 100000.00014021993
YMin: 100000.00008631457
XMax: 360000.0001402199
YMax: 265000.00008631457
Spatial Reference: 103443
 (8140)
Pixel Size X: 3.125
Pixel Size Y:  3.125
Band Count: 1
Pixel Type: U8
RasterFunction Infos:  {"rasterFunctionInfos": [{
 "name": "None",
 "description": "",
 "help": ""
}]}
Mensuration Capabilities: Basic
Has Histograms:  true
Has Colormap:  false
Has Multi Dimensions :  false
Rendering Rule: 
Min Scale:  0
Max Scale:  0
Copyright Text:  
Service Data Type:  esriImageServiceDataTypeGeneric
Min Values:  0
Max Values:  254
Mean Values:  178.68705180637
Standard Deviation Values:  14.30356561575
Object ID Field:  
Fields: 
None
Default Mosaic Method:  Center
Allowed Mosaic Methods:  
SortField:  
SortValue:  null
Mosaic Operator:  First
Default Compression Quality:  75
Default Resampling Method:  Bilinear
Max Record Count:  null
Max Image Height:  4100
Max Image Width:  15000
Max Download Image Count:  null
Max Mosaic Image Count:  null
Allow Raster Function:  true
Allow Copy:  true
Allow Analysis:  true
Allow Compute TiePoints:  false
Supports Statistics:  false
Supports Advanced Queries:  false
Use StandardizedQueries:  true
Raster Type Infos: 
Name: Raster Dataset
Description: Supports all ArcGIS Raster Datasets
Help: 
Has Raster Attribute Table: true
Edit Fields Info:  null
Ownership Based AccessControl For Rasters:  null
Child Resources:
  
Info
  Raster Attribute Table
  Histograms
  Statistics
  Key Properties
  Legend
  Raster Function Infos
Supported Operations:
  
Export Image
  Identify
  Measure
  Compute Histograms
  Compute Statistics Histograms
  Get Samples
  Compute Class Statistics
  Query Boundary
  Compute Pixel Location
  Validate
  Project