<?xml version="1.0" encoding="UTF-8" standalone="no"?>
<metadata xml:lang="en">
<Esri>
<CreaDate>20150527</CreaDate>
<CreaTime>11180800</CreaTime>
<ArcGISFormat>1.0</ArcGISFormat>
<ArcGISstyle>FGDC CSDGM Metadata</ArcGISstyle>
<SyncOnce>FALSE</SyncOnce>
<DataProperties>
<lineage>
<Process Date="20150114" Name="" Time="084722" ToolSource="c:\program files (x86)\arcgis\desktop10.2\ArcToolbox\Toolboxes\Spatial Analyst Tools.tbx\HillShade" export="">HillShade C:\Users\ahilgendor\Documents\ArcGIS\Hillshade.gdb\Oneida_hillshade V:\Bmap\workspace\HillSha_Onei1 315 45 SHADOWS 1</Process>
<Process Date="20150114" Name="" Time="104935" ToolSource="c:\program files (x86)\arcgis\desktop10.2\ArcToolbox\Toolboxes\Data Management Tools.tbx\CopyRaster" export="">CopyRaster V:\Bmap\workspace\hillsha_onei1 V:\Images\hillsha_onei1.tif # # 255 NONE NONE # NONE NONE</Process>
</lineage>
<itemProps>
<itemName Sync="TRUE">On_hillshade.tif</itemName>
<itemLocation>
<linkage Sync="TRUE">file://X:\Imagery\Hillshade\On_hillshade.tif</linkage>
<protocol Sync="TRUE">Local Area Network</protocol>
</itemLocation>
<nativeExtBox>
<westBL Sync="TRUE">100000.000140</westBL>
<eastBL Sync="TRUE">360000.000140</eastBL>
<southBL Sync="TRUE">100000.000086</southBL>
<northBL Sync="TRUE">265000.000086</northBL>
<exTypeCode Sync="TRUE">1</exTypeCode>
</nativeExtBox>
<imsContentType Sync="TRUE">002</imsContentType>
</itemProps>
<coordRef>
<type Sync="TRUE">Projected</type>
<geogcsn Sync="TRUE">GCS_North_American_1983_HARN</geogcsn>
<csUnits Sync="TRUE">Linear Unit: Foot_US (0.304801)</csUnits>
<projcsn Sync="TRUE">NAD_1983_HARN_WISCRS_Oneida_County_Feet</projcsn>
<peXml Sync="TRUE">&lt;ProjectedCoordinateSystem xsi:type='typens:ProjectedCoordinateSystem' xmlns:xsi='http://www.w3.org/2001/XMLSchema-instance' xmlns:xs='http://www.w3.org/2001/XMLSchema' xmlns:typens='http://www.esri.com/schemas/ArcGIS/10.3'&gt;&lt;WKT&gt;PROJCS[&amp;quot;NAD_1983_HARN_WISCRS_Oneida_County_Feet&amp;quot;,GEOGCS[&amp;quot;GCS_North_American_1983_HARN&amp;quot;,DATUM[&amp;quot;D_North_American_1983_HARN&amp;quot;,SPHEROID[&amp;quot;GRS_1980&amp;quot;,6378137.0,298.257222101]],PRIMEM[&amp;quot;Greenwich&amp;quot;,0.0],UNIT[&amp;quot;Degree&amp;quot;,0.0174532925199433]],PROJECTION[&amp;quot;Lambert_Conformal_Conic&amp;quot;],PARAMETER[&amp;quot;False_Easting&amp;quot;,230000.0],PARAMETER[&amp;quot;False_Northing&amp;quot;,188936.744],PARAMETER[&amp;quot;Central_Meridian&amp;quot;,-89.54444444444444],PARAMETER[&amp;quot;Standard_Parallel_1&amp;quot;,45.70422377027778],PARAMETER[&amp;quot;Scale_Factor&amp;quot;,1.0000686968],PARAMETER[&amp;quot;Latitude_Of_Origin&amp;quot;,45.70422377027778],UNIT[&amp;quot;Foot_US&amp;quot;,0.3048006096012192],AUTHORITY[&amp;quot;ESRI&amp;quot;,103443]]&lt;/WKT&gt;&lt;XOrigin&gt;-119167800&lt;/XOrigin&gt;&lt;YOrigin&gt;-98754900&lt;/YOrigin&gt;&lt;XYScale&gt;37719284.839172035&lt;/XYScale&gt;&lt;ZOrigin&gt;-100000&lt;/ZOrigin&gt;&lt;ZScale&gt;10000&lt;/ZScale&gt;&lt;MOrigin&gt;-100000&lt;/MOrigin&gt;&lt;MScale&gt;10000&lt;/MScale&gt;&lt;XYTolerance&gt;0.0032808333333333331&lt;/XYTolerance&gt;&lt;ZTolerance&gt;0.001&lt;/ZTolerance&gt;&lt;MTolerance&gt;0.001&lt;/MTolerance&gt;&lt;HighPrecision&gt;true&lt;/HighPrecision&gt;&lt;WKID&gt;103443&lt;/WKID&gt;&lt;LatestWKID&gt;103443&lt;/LatestWKID&gt;&lt;/ProjectedCoordinateSystem&gt;</peXml>
</coordRef>
<RasterProperties>
<General>
<PixelDepth Sync="TRUE">8</PixelDepth>
<HasColormap Sync="TRUE">FALSE</HasColormap>
<CompressionType Sync="TRUE">LZW</CompressionType>
<NumBands Sync="TRUE">1</NumBands>
<Format Sync="TRUE">TIFF</Format>
<HasPyramids Sync="TRUE">TRUE</HasPyramids>
<SourceType Sync="TRUE">continuous</SourceType>
<PixelType Sync="TRUE">unsigned integer</PixelType>
<NoDataValue Sync="TRUE">255</NoDataValue>
</General>
</RasterProperties>
<copyHistory>
<copy date="20150527" dest="\\ligis1\GIS\Imagery\Hillshade\On_hillshade.tif" source="W:\Images\On_hillshade.tif" time="11180800"/>
</copyHistory>
</DataProperties>
<SyncDate>20150527</SyncDate>
<SyncTime>11182300</SyncTime>
<ModDate>20150527</ModDate>
<ModTime>11220700</ModTime>
<ArcGISProfile>FGDC</ArcGISProfile>
<scaleRange>
<minScale>150000000</minScale>
<maxScale>5000</maxScale>
</scaleRange>
</Esri>
<eainfo>
<detailed Name="On_hillshade.tif.vat">
<enttyp>
<enttypl Sync="TRUE">On_hillshade.tif.vat</enttypl>
<enttypt Sync="TRUE">Table</enttypt>
<enttypc Sync="TRUE">255</enttypc>
</enttyp>
<attr>
<attrlabl Sync="TRUE">OID</attrlabl>
<attalias Sync="TRUE">OID</attalias>
<attrtype Sync="TRUE">OID</attrtype>
<attwidth Sync="TRUE">4</attwidth>
<atprecis Sync="TRUE">0</atprecis>
<attscale Sync="TRUE">0</attscale>
<attrdef Sync="TRUE">Internal feature number.</attrdef>
<attrdefs Sync="TRUE">Esri</attrdefs>
<attrdomv>
<udom Sync="TRUE">Sequential unique whole numbers that are automatically generated.</udom>
</attrdomv>
</attr>
<attr>
<attrlabl Sync="TRUE">VALUE</attrlabl>
<attalias Sync="TRUE">VALUE</attalias>
<attrtype Sync="TRUE">Integer</attrtype>
<attwidth Sync="TRUE">9</attwidth>
<atprecis Sync="TRUE">9</atprecis>
<attscale Sync="TRUE">0</attscale>
</attr>
<attr>
<attrlabl Sync="TRUE">COUNT</attrlabl>
<attalias Sync="TRUE">COUNT</attalias>
<attrtype Sync="TRUE">Integer</attrtype>
<attwidth Sync="TRUE">9</attwidth>
<atprecis Sync="TRUE">9</atprecis>
<attscale Sync="TRUE">0</attscale>
</attr>
</detailed>
</eainfo>
<mdLang>
<languageCode value="eng"/>
<countryCode Sync="TRUE" value="USA"/>
</mdLang>
<mdChar>
<CharSetCd value="004"/>
</mdChar>
<mdHrLv>
<ScopeCd value="005"/>
</mdHrLv>
<mdContact>
<rpOrgName>Ayres Associates</rpOrgName>
<rpCntInfo>
<cntPhone>
<voiceNum>(608) 443-1200</voiceNum>
<faxNum>(608) 443-1250</faxNum>
</cntPhone>
<cntAddress>
<delPoint>5201 E. Terrace Dr, Suite 200</delPoint>
<city>Madison</city>
<adminArea>Wisconsin</adminArea>
<postCode>53718</postCode>
<country>U.S.A.</country>
</cntAddress>
</rpCntInfo>
<role>
<RoleCd value="007"/>
</role>
</mdContact>
<mdDateSt>20140409</mdDateSt>
<mdStanName>ArcGIS Metadata</mdStanName>
<mdStanVer>1.0</mdStanVer>
<dataIdInfo>
<idCitation>
<resTitle>On_hillshade_tif</resTitle>
<date>
<pubDate date="unknown"/>
</date>
<citRespParty>
<rpOrgName>Ayres Associates</rpOrgName>
<role>
<RoleCd value="006"/>
</role>
</citRespParty>
<presForm>
<PresFormCd Sync="TRUE" value="005"/>
</presForm>
</idCitation>
<idAbs>&lt;DIV STYLE="text-align:Left;"&gt;&lt;DIV&gt;&lt;DIV&gt;&lt;P&gt;&lt;SPAN&gt;Ayres Associates provided Oneida County, Wisconsin, with lidar based topographic mapping services in 2013-14. The LiDAR data was collected on May 13-16, 2013 using a Leica ALS 70 sensor mounted in a fixed-wing aircraft. LiDAR data was collected to support to support the generation of 2-foot contours to FEMA vertical accuracy standards. The LiDAR data was delivered according to a 5,000 foot x 5,000 foot tile schematic. The LiDAR data was calibrated using information collected at the time of flight from GPS base stations on the ground and airborne GPS/IMU in the aircraft. The calibrated LiDAR data was processed to a classified point cloud, bare earth DTM, DEM, first-return DSM, contours, breaklines, and intensity images. Oneida County is located in north central Wisconsin, and its northeastern corner is 13 miles from the Upper Peninsula of Michigan. The County is characterized by a high concentration of inland freshwater lakes and mixed northern forest. The Wisconsin River flows from north to south through the middle of the county and is dammed in Rhinelander, the county seat. The total project area is 1,236 square miles.&lt;/SPAN&gt;&lt;/P&gt;&lt;/DIV&gt;&lt;/DIV&gt;&lt;/DIV&gt;</idAbs>
<idPurp>The 2013 Bare Earth DEM was developed as a derivative product for use in general surface modeling and depiction. From this dataset Oneida County created the...</idPurp>
<idStatus>
<ProgCd value="001"/>
</idStatus>
<idPoC>
<rpIndName>Michael J Romportl</rpIndName>
<rpPosName>Oneida County Land Information Director</rpPosName>
<rpCntInfo>
<cntPhone>
<voiceNum>715-369-6179</voiceNum>
</cntPhone>
<cntAddress>
<delPoint>1 S Oneida AVE</delPoint>
<city>Rhinelander</city>
<adminArea>Wisconsin</adminArea>
<postCode>54501</postCode>
<country>U.S.A.</country>
<eMailAdd>lio@co.oneida.wi.us</eMailAdd>
</cntAddress>
</rpCntInfo>
<role>
<RoleCd value="007"/>
</role>
</idPoC>
<resMaint>
<maintFreq>
<MaintFreqCd value="011"/>
</maintFreq>
</resMaint>
<placeKeys>
<keyword>Oneida</keyword>
<keyword>Wisconsin</keyword>
<keyword>County</keyword>
</placeKeys>
<themeKeys>
<keyword>3.125-foot pixel</keyword>
<keyword>surface data</keyword>
<keyword>GRID</keyword>
<keyword>DEM</keyword>
<keyword>surface model</keyword>
<keyword>raster data</keyword>
<keyword>bare earth</keyword>
<keyword>terrain data</keyword>
</themeKeys>
<searchKeys>
<keyword>surface model</keyword>
<keyword>raster data</keyword>
<keyword>bare earth</keyword>
<keyword>hillshade</keyword>
</searchKeys>
<resConst>
<LegConsts>
<othConsts>To be determined by client.</othConsts>
</LegConsts>
</resConst>
<resConst>
<Consts>
<useLimit>&lt;DIV STYLE="text-align:Left;"&gt;&lt;DIV&gt;&lt;DIV&gt;&lt;P&gt;&lt;SPAN&gt;To be determined by client.&lt;/SPAN&gt;&lt;/P&gt;&lt;/DIV&gt;&lt;/DIV&gt;&lt;/DIV&gt;</useLimit>
</Consts>
</resConst>
<dataLang>
<languageCode value="eng"/>
<countryCode Sync="TRUE" value="USA"/>
</dataLang>
<envirDesc>Microsoft Windows XP Version 5.1 (Build 2600) Service Pack 3; ESRI ArcCatalog 9.3.1.3000</envirDesc>
<dataExt>
<exDesc>ground condition</exDesc>
<tempEle>
<TempExtent>
<exTemp>
<TM_Period>
<tmBegin time="unknown">2013-05-13</tmBegin>
<tmEnd time="unknown">2013-05-16</tmEnd>
</TM_Period>
</exTemp>
</TempExtent>
</tempEle>
</dataExt>
<spatRpType>
<SpatRepTypCd Sync="TRUE" value="002"/>
</spatRpType>
<dataExt>
<geoEle>
<GeoBndBox esriExtentType="search">
<exTypeCode Sync="TRUE">1</exTypeCode>
<westBL Sync="TRUE">-90.055118</westBL>
<eastBL Sync="TRUE">-89.033771</eastBL>
<northBL Sync="TRUE">45.912798</northBL>
<southBL Sync="TRUE">45.459212</southBL>
</GeoBndBox>
</geoEle>
</dataExt>
<idCredit>Oneida County Land Information Office, Ayres Associates, Quantum Spatial (formerly Aero-Metric Inc.)</idCredit>
</dataIdInfo>
<dqInfo>
<dqScope>
<scpLvl>
<ScopeCd value="005"/>
</scpLvl>
</dqScope>
<report type="DQCompOm">
<evalMethDesc>The digital elevation model covers all of the project area with no gaps or omissions.</evalMethDesc>
</report>
<report type="DQConcConsis">
<measDesc>Each pixel in the ESRI GRID contains a value representing relative elevation. Each pixel represents a 3.125-foot by 3.125-foot area.</measDesc>
</report>
<report type="DQCompOm">
<measDesc>The digital elevation model covers all of the project area with no gaps or omissions.</measDesc>
</report>
<report type="DQQuanAttAcc">
<measDesc>None</measDesc>
</report>
<dataLineage>
<prcStep>
<stepDesc>LiDAR processing utilizes several software packages, including GeoCue and the TerraSolid suite of processing components. The GeoCue software is a database management system for housing the LiDAR dataset (usually multiple gigabytes in size). GeoCue incorporates a thorough checklist of processing steps and quality assurance/quality control (QA/QC) procedures that assist in the LiDAR workflow. The TerraSolid software suite is used to automate the initial classification of the LiDAR point cloud based on a set of predetermined parameters. Lidar technicians refer to ground cover research (natural and cultural features) within the project area and determine algorithms most suitable for the initial automated LiDAR classification. (Some algorithms/filters recognize the ground in forests well, while others have greater capability in urban areas). During this process each point is given an initial classification (e.g., as ground, vegetation, or noise) based on the point's coordinates and the relation to its neighbors. Classifications to be assigned include all those outlined by ASPRS standards. The initial classifications produce a coarse and inexact dataset, but offer an adequate starting point for the subsequent manual classification procedure. The task of the collection of breaklines from lidar data in 3D stereo environment included collecting ponded bodies of water evident in the lidar at time of flight in May 2013. The ponded water defined by the hydro breaklines does not necessarily indicate permanent, year-round presence of water bodies. The hydro break lines are collected to most accurately represent the ground surface for use in the generation of contours and digital elevation models. The hydro break lines are retained in two shapefiles; one for the ponds and another for the streams. In the ponded water breakline shapefile, there is an attribute field that indicates whether the ponds is &gt;2Ac or &lt;2Ac. Hydro break lines that are &lt;2Ac were collected in certain areas where the surface definition was improved by the inclusion of the break line. The LiDAR points that fall within these areas are classified as "water." Breaklines representing streams and rivers shall be smooth, continuous, and monotonic, and represent the water surface without any stair steps except for dams and rapids. All hydrographic breaklines include a 1 foot buffer, with the points being re-classified as Class 10 (ignored ground). TerraSolid is further used for the subsequent manual classification of the LiDAR points allowing technicians to view the point cloud in a number of ways to ensure accuracy and consistency of points and uniformity of point coverage.</stepDesc>
</prcStep>
<dataSource>
<srcCitatn>
<resTitle>LiDAR Acquisition 2013, County of Oneida</resTitle>
</srcCitatn>
</dataSource>
</dataLineage>
</dqInfo>
<distInfo>
<distFormat>
<formatName Sync="TRUE">Raster Dataset</formatName>
</distFormat>
</distInfo>
<mdHrLvName Sync="TRUE">dataset</mdHrLvName>
<refSysInfo>
<RefSystem>
<refSysID>
<identCode Sync="TRUE" code="103443"/>
<idCodeSpace Sync="TRUE">ESRI</idCodeSpace>
<idVersion Sync="TRUE">10.2.1</idVersion>
</refSysID>
</RefSystem>
</refSysInfo>
<spatRepInfo>
<Georect>
<cellGeo>
<CellGeoCd Sync="TRUE" value="002"/>
</cellGeo>
<numDims Sync="TRUE">2</numDims>
<tranParaAv Sync="TRUE">1</tranParaAv>
<chkPtAv Sync="TRUE">0</chkPtAv>
<cornerPts>
<pos Sync="TRUE">100000.000140 100000.000086</pos>
</cornerPts>
<cornerPts>
<pos Sync="TRUE">100000.000140 265000.000086</pos>
</cornerPts>
<cornerPts>
<pos Sync="TRUE">360000.000140 265000.000086</pos>
</cornerPts>
<cornerPts>
<pos Sync="TRUE">360000.000140 100000.000086</pos>
</cornerPts>
<centerPt>
<pos Sync="TRUE">230000.000140 182500.000086</pos>
</centerPt>
<axisDimension type="002">
<dimSize Sync="TRUE">83200</dimSize>
<dimResol>
<value Sync="TRUE">3.125000</value>
</dimResol>
</axisDimension>
<axisDimension type="001">
<dimSize Sync="TRUE">52800</dimSize>
<dimResol>
<value Sync="TRUE">3.125000</value>
</dimResol>
</axisDimension>
<ptInPixel>
<PixOrientCd Sync="TRUE" value="001"/>
</ptInPixel>
</Georect>
</spatRepInfo>
<contInfo>
<ImgDesc>
<contentTyp>
<ContentTypCd Sync="TRUE" value="001"/>
</contentTyp>
<covDim>
<Band>
<dimDescrp Sync="TRUE">Band_1</dimDescrp>
<maxVal Sync="TRUE">254.000000</maxVal>
<minVal Sync="TRUE">0.000000</minVal>
<bitsPerVal Sync="TRUE">8</bitsPerVal>
</Band>
</covDim>
</ImgDesc>
</contInfo>
</metadata>
