{
 "currentVersion": 10.81,
 "serviceDescription": "Basemaps/On_hillshade_tif",
 "name": "Basemaps/On_hillshade_tif",
 "description": "",
 "extent": {
  "xmin": 100000.00014021993,
  "ymin": 100000.00008631457,
  "xmax": 360000.0001402199,
  "ymax": 265000.00008631457,
  "spatialReference": {
   "wkid": 103443,
   "latestWkid": 8140
  }
 },
 "initialExtent": {
  "xmin": 100000.00014021993,
  "ymin": 100000.00008631457,
  "xmax": 360000.0001402199,
  "ymax": 265000.00008631457,
  "spatialReference": {
   "wkid": 103443,
   "latestWkid": 8140
  }
 },
 "fullExtent": {
  "xmin": 100000.00014021993,
  "ymin": 100000.00008631457,
  "xmax": 360000.0001402199,
  "ymax": 265000.00008631457,
  "spatialReference": {
   "wkid": 103443,
   "latestWkid": 8140
  }
 },
 "pixelSizeX": 3.125,
 "pixelSizeY": 3.125,
 "datasetFormat": "TIFF",
 "uncompressedSize": 4392960000,
 "blockWidth": 128,
 "blockHeight": 128,
 "compressionType": "LZW",
 "bandNames": [
  "Band_1"
 ],
 "allowCopy": true,
 "allowAnalysis": true,
 "bandCount": 1,
 "noDataValue": 255,
 "noDataValues": [
  255
 ],
 "pixelType": "U8",
 "minPixelSize": 0,
 "maxPixelSize": 0,
 "copyrightText": "",
 "serviceDataType": "esriImageServiceDataTypeGeneric",
 "serviceSourceType": "esriImageServiceSourceTypeDataset",
 "minValues": [
  0
 ],
 "maxValues": [
  254
 ],
 "meanValues": [
  178.68705180637
 ],
 "stdvValues": [
  14.30356561575
 ],
 "objectIdField": "",
 "fields": [],
 "capabilities": "Image,Metadata,Mensuration",
 "defaultMosaicMethod": "Center",
 "allowedMosaicMethods": "",
 "sortField": "",
 "sortValue": null,
 "sortAscending": true,
 "mosaicOperator": "First",
 "defaultCompressionQuality": 75,
 "defaultResamplingMethod": "Bilinear",
 "maxImageHeight": 4100,
 "maxImageWidth": 15000,
 "allowRasterFunction": true,
 "rasterFunctionInfos": [
  {
   "name": "None",
   "description": "",
   "help": ""
  }
 ],
 "rasterTypeInfos": [
  {
   "name": "Raster Dataset",
   "description": "Supports all ArcGIS Raster Datasets",
   "help": ""
  }
 ],
 "mensurationCapabilities": "Basic",
 "hasHistograms": true,
 "hasColormap": false,
 "hasRasterAttributeTable": true,
 "minScale": 0,
 "maxScale": 0,
 "exportTilesAllowed": false,
 "hasMultidimensions": false,
 "supportsStatistics": false,
 "supportsAdvancedQueries": false,
 "editFieldsInfo": null,
 "ownershipBasedAccessControlForRasters": null,
 "allowComputeTiePoints": false,
 "useStandardizedQueries": true,
 "advancedQueryCapabilities": {
  "useStandardizedQueries": true,
  "supportsStatistics": false,
  "supportsOrderBy": false,
  "supportsDistinct": false,
  "supportsPagination": false
 },
 "spatialReference": {
  "wkid": 103443,
  "latestWkid": 8140
 }
}
