<?xml version="1.0" encoding="UTF-8" standalone="no"?>
<metadata xml:lang="en">
<Esri>
<CreaDate>20180412</CreaDate>
<CreaTime>10161900</CreaTime>
<ArcGISFormat>1.0</ArcGISFormat>
<SyncOnce>FALSE</SyncOnce>
<DataProperties>
<lineage>
<Process Date="20180118" Name="" Time="162914" ToolSource="c:\program files (x86)\arcgis\desktop10.5\ArcToolbox\Toolboxes\Data Management Tools.tbx\MosaicToNewRaster" export="">MosaicToNewRaster S:\PhotoMosaics\CountyProcessing\Oneida_crop\Townships\TIFF\Mosaic\oneida_aerial_v2.gdb\oneida_mosaic_v2;S:\PhotoMosaics\CountyProcessing\Oneida_crop\Townships\TIFF\Mosaic\oneida_aerial_v2.gdb\T43712x;S:\PhotoMosaics\CountyProcessing\Oneida_crop\Townships\TIFF\Mosaic\oneida_aerial_v2.gdb\T43612x;S:\PhotoMosaics\CountyProcessing\Oneida_crop\Townships\TIFF\Mosaic\oneida_aerial_v2.gdb\T43711Ax "S:\PhotoMosaics\CountyMosaics\Non-Clipped County Mosaics\Oneida" oneida_mosaic_v3.tif PROJCS['NAD_1983_HARN_Wisconsin_TM_US_Ft',GEOGCS['GCS_North_American_1983_HARN',DATUM['D_North_American_1983_HARN',SPHEROID['GRS_1980',6378137.0,298.257222101]],PRIMEM['Greenwich',0.0],UNIT['Degree',0.0174532925199433]],PROJECTION['Transverse_Mercator'],PARAMETER['False_Easting',1706033.333333333],PARAMETER['False_Northing',-14698133.33333333],PARAMETER['Central_Meridian',-90.0],PARAMETER['Scale_Factor',0.9996],PARAMETER['Latitude_Of_Origin',0.0],UNIT['Foot_US',0.3048006096012192]] 8_BIT_UNSIGNED # 1 BLEND LAST</Process>
<Process Date="20180118" Name="" Time="165042" ToolSource="c:\program files (x86)\arcgis\desktop10.5\ArcToolbox\Toolboxes\Data Management Tools.tbx\Clip" export="">Clip oneida_mosaic_v3.tif "1694425.24060932 1819372.80142512 1950619.06440162 1980119.97100685" "S:\PhotoMosaics\CountyMosaics\Clipped County Mosaics\Oneida\oneida_clipped_V2.tif" GreatLakes_Selection 255 ClippingGeometry NO_MAINTAIN_EXTENT</Process>
<Process Date="20180227" Name="" Time="120139" ToolSource="c:\program files (x86)\arcgis\desktop10.5\ArcToolbox\Toolboxes\Data Management Tools.tbx\ProjectRaster" export="">ProjectRaster oneida_clipped_V2.tif "S:\PhotoMosaics\CountyMosaics\Clipped County Mosaics\Oneida\oneida_wiscrs.tif" PROJCS['NAD_1983_HARN_WISCRS_Oneida_County_Feet',GEOGCS['GCS_North_American_1983_HARN',DATUM['D_North_American_1983_HARN',SPHEROID['GRS_1980',6378137.0,298.257222101]],PRIMEM['Greenwich',0.0],UNIT['Degree',0.0174532925199433]],PROJECTION['Lambert_Conformal_Conic'],PARAMETER['False_Easting',230000.0],PARAMETER['False_Northing',188936.744],PARAMETER['Central_Meridian',-89.54444444444444],PARAMETER['Standard_Parallel_1',45.70422377027778],PARAMETER['Scale_Factor',1.0000686968],PARAMETER['Latitude_Of_Origin',45.70422377027778],UNIT['Foot_US',0.3048006096012192]] NEAREST "2.82778 2.82778" # # PROJCS['NAD_1983_HARN_Wisconsin_TM_US_Ft',GEOGCS['GCS_North_American_1983_HARN',DATUM['D_North_American_1983_HARN',SPHEROID['GRS_1980',6378137.0,298.257222101]],PRIMEM['Greenwich',0.0],UNIT['Degree',0.0174532925199433]],PROJECTION['Transverse_Mercator'],PARAMETER['False_Easting',1706033.333333333],PARAMETER['False_Northing',-14698133.33333333],PARAMETER['Central_Meridian',-90.0],PARAMETER['Scale_Factor',0.9996],PARAMETER['Latitude_Of_Origin',0.0],UNIT['Foot_US',0.3048006096012192]]</Process>
</lineage>
<itemProps>
<itemName Sync="TRUE">oneida_wiscrs.tif</itemName>
<itemLocation>
<linkage Sync="TRUE">file://\\ligis1\gis\Imagery\1930\oneida_wiscrs.tif</linkage>
<protocol Sync="TRUE">Local Area Network</protocol>
</itemLocation>
<imsContentType Sync="TRUE">002</imsContentType>
<nativeExtBox>
<westBL Sync="TRUE">101487.387667</westBL>
<eastBL Sync="TRUE">358713.567587</eastBL>
<southBL Sync="TRUE">100438.353707</southBL>
<northBL Sync="TRUE">262716.164567</northBL>
<exTypeCode Sync="TRUE">1</exTypeCode>
</nativeExtBox>
</itemProps>
<coordRef>
<type Sync="TRUE">Projected</type>
<geogcsn Sync="TRUE">GCS_North_American_1983_HARN</geogcsn>
<csUnits Sync="TRUE">Linear Unit: Foot_US (0.304801)</csUnits>
<projcsn Sync="TRUE">NAD_1983_HARN_WISCRS_Oneida_County_Feet</projcsn>
<peXml Sync="TRUE">&lt;ProjectedCoordinateSystem xsi:type='typens:ProjectedCoordinateSystem' xmlns:xsi='http://www.w3.org/2001/XMLSchema-instance' xmlns:xs='http://www.w3.org/2001/XMLSchema' xmlns:typens='http://www.esri.com/schemas/ArcGIS/10.4'&gt;&lt;WKT&gt;PROJCS[&amp;quot;NAD_1983_HARN_WISCRS_Oneida_County_Feet&amp;quot;,GEOGCS[&amp;quot;GCS_North_American_1983_HARN&amp;quot;,DATUM[&amp;quot;D_North_American_1983_HARN&amp;quot;,SPHEROID[&amp;quot;GRS_1980&amp;quot;,6378137.0,298.257222101]],PRIMEM[&amp;quot;Greenwich&amp;quot;,0.0],UNIT[&amp;quot;Degree&amp;quot;,0.0174532925199433]],PROJECTION[&amp;quot;Lambert_Conformal_Conic&amp;quot;],PARAMETER[&amp;quot;False_Easting&amp;quot;,230000.0],PARAMETER[&amp;quot;False_Northing&amp;quot;,188936.744],PARAMETER[&amp;quot;Central_Meridian&amp;quot;,-89.54444444444444],PARAMETER[&amp;quot;Standard_Parallel_1&amp;quot;,45.70422377027778],PARAMETER[&amp;quot;Scale_Factor&amp;quot;,1.0000686968],PARAMETER[&amp;quot;Latitude_Of_Origin&amp;quot;,45.70422377027778],UNIT[&amp;quot;Foot_US&amp;quot;,0.3048006096012192],AUTHORITY[&amp;quot;Esri&amp;quot;,103443]]&lt;/WKT&gt;&lt;XOrigin&gt;-119167800&lt;/XOrigin&gt;&lt;YOrigin&gt;-98754900&lt;/YOrigin&gt;&lt;XYScale&gt;37719284.839172035&lt;/XYScale&gt;&lt;ZOrigin&gt;-100000&lt;/ZOrigin&gt;&lt;ZScale&gt;10000&lt;/ZScale&gt;&lt;MOrigin&gt;-100000&lt;/MOrigin&gt;&lt;MScale&gt;10000&lt;/MScale&gt;&lt;XYTolerance&gt;0.0032808333333333331&lt;/XYTolerance&gt;&lt;ZTolerance&gt;0.001&lt;/ZTolerance&gt;&lt;MTolerance&gt;0.001&lt;/MTolerance&gt;&lt;HighPrecision&gt;true&lt;/HighPrecision&gt;&lt;WKID&gt;103443&lt;/WKID&gt;&lt;LatestWKID&gt;103443&lt;/LatestWKID&gt;&lt;/ProjectedCoordinateSystem&gt;</peXml>
</coordRef>
<RasterProperties>
<General>
<PixelDepth Sync="TRUE">8</PixelDepth>
<HasColormap Sync="TRUE">FALSE</HasColormap>
<CompressionType Sync="TRUE">LZW</CompressionType>
<NumBands Sync="TRUE">1</NumBands>
<Format Sync="TRUE">TIFF</Format>
<HasPyramids Sync="TRUE">TRUE</HasPyramids>
<SourceType Sync="TRUE">continuous</SourceType>
<PixelType Sync="TRUE">unsigned integer</PixelType>
<NoDataValue Sync="TRUE">255</NoDataValue>
</General>
</RasterProperties>
<copyHistory>
<copy date="20180412" dest="\\ligis1\gis\Imagery\1930\oneida_wiscrs.tif" source="W:\Images\oneida_wiscrs_1930\oneida_wiscrs.tif" time="10161900"/>
</copyHistory>
</DataProperties>
<SyncDate>20180409</SyncDate>
<SyncTime>09300600</SyncTime>
<ModDate>20180409</ModDate>
<ModTime>9381100</ModTime>
<scaleRange>
<minScale>150000000</minScale>
<maxScale>5000</maxScale>
</scaleRange>
<ArcGISProfile>FGDC</ArcGISProfile>
<ArcGISstyle>FGDC CSDGM Metadata</ArcGISstyle>
</Esri>
<dataIdInfo>
<envirDesc Sync="TRUE"> Version 6.2 (Build 9200) ; Esri ArcGIS 10.4.1.5713</envirDesc>
<dataLang>
<languageCode Sync="TRUE" value="eng"/>
<countryCode Sync="TRUE" value="USA"/>
</dataLang>
<idCitation>
<resTitle Sync="TRUE">oneida_wiscrs_tif</resTitle>
<presForm>
<PresFormCd Sync="TRUE" value="005"/>
</presForm>
</idCitation>
<spatRpType>
<SpatRepTypCd Sync="TRUE" value="002"/>
</spatRpType>
<dataExt>
<geoEle>
<GeoBndBox esriExtentType="search">
<exTypeCode Sync="TRUE">1</exTypeCode>
<westBL Sync="TRUE">-90.049219</westBL>
<eastBL Sync="TRUE">-89.038881</eastBL>
<northBL Sync="TRUE">45.906535</northBL>
<southBL Sync="TRUE">45.460436</southBL>
</GeoBndBox>
</geoEle>
</dataExt>
<idPurp>Rough mosaic imagery from 1930's</idPurp>
<idAbs>&lt;DIV STYLE="text-align:Left;"&gt;&lt;DIV&gt;&lt;DIV&gt;&lt;P&gt;&lt;SPAN&gt;&lt;SPAN&gt;This 1930’s dataset was provided to Oneida County by the Wisconsin State Cartographers Office. This isn’t a finely-crafted orthophoto that was developed using high-end photogrammetric methods. It’s a simple georeference and warping the 1930’s-era imagery. You will see issues with color balancing, roads not lining up, etc.&lt;/SPAN&gt;&lt;/SPAN&gt;&lt;/P&gt;&lt;/DIV&gt;&lt;/DIV&gt;&lt;/DIV&gt;</idAbs>
<idCredit>Wisconsin State Cartographer's Office</idCredit>
<searchKeys>
<keyword>Imagery</keyword>
<keyword>1930 Air Photo</keyword>
</searchKeys>
<resConst>
<Consts>
<useLimit/>
</Consts>
</resConst>
</dataIdInfo>
<mdLang>
<languageCode Sync="TRUE" value="eng"/>
<countryCode Sync="TRUE" value="USA"/>
</mdLang>
<mdChar>
<CharSetCd Sync="TRUE" value="004"/>
</mdChar>
<distInfo>
<distFormat>
<formatName Sync="TRUE">Raster Dataset</formatName>
</distFormat>
</distInfo>
<mdHrLv>
<ScopeCd Sync="TRUE" value="005"/>
</mdHrLv>
<mdHrLvName Sync="TRUE">dataset</mdHrLvName>
<refSysInfo>
<RefSystem>
<refSysID>
<identCode Sync="TRUE" code="103443"/>
<idCodeSpace Sync="TRUE">Esri</idCodeSpace>
<idVersion Sync="TRUE">9.2.0</idVersion>
</refSysID>
</RefSystem>
</refSysInfo>
<spatRepInfo>
<Georect>
<cellGeo>
<CellGeoCd Sync="TRUE" value="002"/>
</cellGeo>
<numDims Sync="TRUE">2</numDims>
<tranParaAv Sync="TRUE">1</tranParaAv>
<chkPtAv Sync="TRUE">0</chkPtAv>
<cornerPts>
<pos Sync="TRUE">101487.387667 100438.353707</pos>
</cornerPts>
<cornerPts>
<pos Sync="TRUE">101487.387667 262716.164567</pos>
</cornerPts>
<cornerPts>
<pos Sync="TRUE">358713.567587 262716.164567</pos>
</cornerPts>
<cornerPts>
<pos Sync="TRUE">358713.567587 100438.353707</pos>
</cornerPts>
<centerPt>
<pos Sync="TRUE">230100.477627 181577.259137</pos>
</centerPt>
<axisDimension type="002">
<dimSize Sync="TRUE">90964</dimSize>
<dimResol>
<value Sync="TRUE" uom="ftUS">2.827780</value>
</dimResol>
</axisDimension>
<axisDimension type="001">
<dimSize Sync="TRUE">57387</dimSize>
<dimResol>
<value Sync="TRUE" uom="ftUS">2.827780</value>
</dimResol>
</axisDimension>
<ptInPixel>
<PixOrientCd Sync="TRUE" value="001"/>
</ptInPixel>
</Georect>
</spatRepInfo>
<contInfo>
<ImgDesc>
<contentTyp>
<ContentTypCd Sync="TRUE" value="001"/>
</contentTyp>
<covDim>
<Band>
<dimDescrp Sync="TRUE">Band_1</dimDescrp>
<maxVal Sync="TRUE">254.000000</maxVal>
<minVal Sync="TRUE">0.000000</minVal>
<bitsPerVal Sync="TRUE">8</bitsPerVal>
<valUnit>
<UOM type="length"/>
</valUnit>
</Band>
</covDim>
</ImgDesc>
</contInfo>
<mdDateSt Sync="TRUE">20180409</mdDateSt>
</metadata>
